BEGIN:VCALENDAR
VERSION:2.0
PRODID:-//hacksw/handcal//NONSGML v1.0//EN
CALSCALE:GREGORIAN
BEGIN:VEVENT
DTSTART:20140401T110000Z
DTEND:20140401T120000Z
UID:e14630
DTSTAMP:20260422T182650Z
LOCATION:Helen and Milton A. Kimmelman Building
DESCRIPTION:&#8220\;A molecular 'ball and chain' mechanism for voltage-activated potassium channel clustering: implications for electrical signaling.&#8221\; 
SUMMARY:&#8220\;A molecular 'ball and chain' mechanism for voltage-activated potassium channel clustering: implications for electrical signaling.&#8221\; 
END:VEVENT
END:VCALENDAR