BEGIN:VCALENDAR
VERSION:2.0
PRODID:-//hacksw/handcal//NONSGML v1.0//EN
CALSCALE:GREGORIAN
BEGIN:VEVENT
DTSTART:20140410T130000Z
DTEND:20140410T130000Z
UID:e14634
DTSTAMP:20260425T135501Z
LOCATION:Jacob Ziskind Building
DESCRIPTION:The bispectral problem: from time and band limiting (Bell Labs 1960) to integrable systems\, nonconmmutative algebras of differential operators\, monodromy\,  and back.
SUMMARY:The bispectral problem: from time and band limiting (Bell Labs 1960) to integrable systems\, nonconmmutative algebras of differential operators\, monodromy\,  and back.
END:VEVENT
END:VCALENDAR