BEGIN:VCALENDAR
VERSION:2.0
PRODID:-//hacksw/handcal//NONSGML v1.0//EN
CALSCALE:GREGORIAN
BEGIN:VEVENT
DTSTART:20140403T110000Z
DTEND:20140403T110000Z
UID:e14635
DTSTAMP:20260423T183826Z
LOCATION:Perlman Chemical Sciences Building
DESCRIPTION:Recent Developments in Surface Forces Measurement
SUMMARY:Recent Developments in Surface Forces Measurement
END:VEVENT
END:VCALENDAR