BEGIN:VCALENDAR
VERSION:2.0
PRODID:-//hacksw/handcal//NONSGML v1.0//EN
CALSCALE:GREGORIAN
BEGIN:VEVENT
DTSTART:20140408T113000Z
DTEND:20140408T113000Z
UID:e14637
DTSTAMP:20260423T005210Z
LOCATION:Jacob Ziskind Building
DESCRIPTION:A tighter Cheeger's inequality 
SUMMARY:A tighter Cheeger's inequality 
END:VEVENT
END:VCALENDAR