BEGIN:VCALENDAR
VERSION:2.0
PRODID:-//hacksw/handcal//NONSGML v1.0//EN
CALSCALE:GREGORIAN
BEGIN:VEVENT
DTSTART:20140406T080000Z
DTEND:20140406T080000Z
UID:e14638
DTSTAMP:20260422T182623Z
LOCATION:Helen and Milton A. Kimmelman Building
DESCRIPTION:A Theoretical Approach to Unexpected Chemistry
SUMMARY:A Theoretical Approach to Unexpected Chemistry
END:VEVENT
END:VCALENDAR