BEGIN:VCALENDAR
VERSION:2.0
PRODID:-//hacksw/handcal//NONSGML v1.0//EN
CALSCALE:GREGORIAN
BEGIN:VEVENT
DTSTART:20140602T064500Z
DTEND:20140602T100000Z
UID:e14641
DTSTAMP:20260425T234717Z
LOCATION:Dolfi and Lola Ebner Auditorium
DESCRIPTION:Life Sciences Colloquium- Mini Symposium 2014 Wolf Prize Winners: 
SUMMARY:Life Sciences Colloquium- Mini Symposium 2014 Wolf Prize Winners: 
END:VEVENT
END:VCALENDAR