BEGIN:VCALENDAR
VERSION:2.0
PRODID:-//hacksw/handcal//NONSGML v1.0//EN
CALSCALE:GREGORIAN
BEGIN:VEVENT
DTSTART:20140402T080000Z
DTEND:20140402T080000Z
UID:e14646
DTSTAMP:20260424T024022Z
LOCATION:Perlman Chemical Sciences Building
DESCRIPTION:From Nanostructure to High Efficiency in Organic Photovoltaics
SUMMARY:From Nanostructure to High Efficiency in Organic Photovoltaics
END:VEVENT
END:VCALENDAR