BEGIN:VCALENDAR
VERSION:2.0
PRODID:-//hacksw/handcal//NONSGML v1.0//EN
CALSCALE:GREGORIAN
BEGIN:VEVENT
DTSTART:20140406T080000Z
DTEND:20140406T080000Z
UID:e14647
DTSTAMP:20260423T155409Z
LOCATION:Perlman Chemical Sciences Building
DESCRIPTION:The governing role of surface hydration &#8211\; AFM studies of the interaction between protic surfaces in aqueous solution
SUMMARY:The governing role of surface hydration &#8211\; AFM studies of the interaction between protic surfaces in aqueous solution
END:VEVENT
END:VCALENDAR