BEGIN:VCALENDAR
VERSION:2.0
PRODID:-//hacksw/handcal//NONSGML v1.0//EN
CALSCALE:GREGORIAN
BEGIN:VEVENT
DTSTART:20140403T080000Z
DTEND:20140403T080000Z
UID:e14649
DTSTAMP:20260423T044655Z
LOCATION:Helen and Milton A. Kimmelman Building
DESCRIPTION:Exploration of New Chemical Reactivities for Synthetic Efficiency
SUMMARY:Exploration of New Chemical Reactivities for Synthetic Efficiency
END:VEVENT
END:VCALENDAR