BEGIN:VCALENDAR
VERSION:2.0
PRODID:-//hacksw/handcal//NONSGML v1.0//EN
CALSCALE:GREGORIAN
BEGIN:VEVENT
DTSTART:20140428T113000Z
DTEND:20140428T113000Z
UID:e14655
DTSTAMP:20260425T232745Z
LOCATION:Jacob Ziskind Building
DESCRIPTION:How to Delegate Computations: The Power of No-Signaling Proofs
SUMMARY:How to Delegate Computations: The Power of No-Signaling Proofs
END:VEVENT
END:VCALENDAR