BEGIN:VCALENDAR
VERSION:2.0
PRODID:-//hacksw/handcal//NONSGML v1.0//EN
CALSCALE:GREGORIAN
BEGIN:VEVENT
DTSTART:20140408T103000Z
DTEND:20140408T113000Z
UID:e14660
DTSTAMP:20260424T040531Z
LOCATION:Wolfson Building for Biological Research
DESCRIPTION:"Immunoregulation by mesenchymal stromal cells"
SUMMARY:"Immunoregulation by mesenchymal stromal cells"
END:VEVENT
END:VCALENDAR