BEGIN:VCALENDAR
VERSION:2.0
PRODID:-//hacksw/handcal//NONSGML v1.0//EN
CALSCALE:GREGORIAN
BEGIN:VEVENT
DTSTART:20140403T081500Z
DTEND:20140403T081500Z
UID:e14661
DTSTAMP:20260423T044659Z
LOCATION:Edna and K.B. Weissman Building of Physical Sciences
DESCRIPTION:Entanglement for pedestrians
SUMMARY:Entanglement for pedestrians
END:VEVENT
END:VCALENDAR