BEGIN:VCALENDAR
VERSION:2.0
PRODID:-//hacksw/handcal//NONSGML v1.0//EN
CALSCALE:GREGORIAN
BEGIN:VEVENT
DTSTART:20140408T093000Z
DTEND:20140408T093000Z
UID:e14665
DTSTAMP:20260423T005206Z
LOCATION:Gerhard M.J. Schmidt Lecture Hall
DESCRIPTION:Novel homeostatic mechanisms in a neurodevelopmental mice model of Angelman syndrome
SUMMARY:Novel homeostatic mechanisms in a neurodevelopmental mice model of Angelman syndrome
END:VEVENT
END:VCALENDAR