BEGIN:VCALENDAR
VERSION:2.0
PRODID:-//hacksw/handcal//NONSGML v1.0//EN
CALSCALE:GREGORIAN
BEGIN:VEVENT
DTSTART:20140424T093000Z
DTEND:20140424T103000Z
UID:e14666
DTSTAMP:20260424T023917Z
LOCATION:Gerhard M.J. Schmidt Lecture Hall
DESCRIPTION:Spotlight on Science - Dr. Hagai Cohen
SUMMARY:Spotlight on Science - Dr. Hagai Cohen
END:VEVENT
END:VCALENDAR