BEGIN:VCALENDAR
VERSION:2.0
PRODID:-//hacksw/handcal//NONSGML v1.0//EN
CALSCALE:GREGORIAN
BEGIN:VEVENT
DTSTART:20140406T101500Z
DTEND:20140406T101500Z
UID:e14667
DTSTAMP:20260423T155407Z
LOCATION:Dannie N. Heineman Laboratory
DESCRIPTION:Modelling tissue and cancer growth dynamics
SUMMARY:Modelling tissue and cancer growth dynamics
END:VEVENT
END:VCALENDAR