BEGIN:VCALENDAR
VERSION:2.0
PRODID:-//hacksw/handcal//NONSGML v1.0//EN
CALSCALE:GREGORIAN
BEGIN:VEVENT
DTSTART:20140429T103000Z
DTEND:20140429T110000Z
UID:e14672
DTSTAMP:20260425T232745Z
LOCATION:Wolfson Building for Biological Research
DESCRIPTION:"Canalucular stage fetal lung cells as a novel source for lung regeneration"
SUMMARY:"Canalucular stage fetal lung cells as a novel source for lung regeneration"
END:VEVENT
END:VCALENDAR