BEGIN:VCALENDAR
VERSION:2.0
PRODID:-//hacksw/handcal//NONSGML v1.0//EN
CALSCALE:GREGORIAN
BEGIN:VEVENT
DTSTART:20140429T110000Z
DTEND:20140429T113000Z
UID:e14673
DTSTAMP:20260424T075631Z
LOCATION:Wolfson Building for Biological Research
DESCRIPTION:"Activated &#945\;-SMA macrophages induce stem cell retention in the bone marrow via PGE2 and lactate production"
SUMMARY:"Activated &#945\;-SMA macrophages induce stem cell retention in the bone marrow via PGE2 and lactate production"
END:VEVENT
END:VCALENDAR