BEGIN:VCALENDAR
VERSION:2.0
PRODID:-//hacksw/handcal//NONSGML v1.0//EN
CALSCALE:GREGORIAN
BEGIN:VEVENT
DTSTART:20140408T101500Z
DTEND:20140408T110000Z
UID:e14679
DTSTAMP:20260423T033853Z
LOCATION:Nella and Leon Benoziyo Physics Building
DESCRIPTION:The Multiplexed Imaging Method: High-Resolution Wide Field Imaging Using Physically Small Detectors 
SUMMARY:The Multiplexed Imaging Method: High-Resolution Wide Field Imaging Using Physically Small Detectors 
END:VEVENT
END:VCALENDAR