BEGIN:VCALENDAR
VERSION:2.0
PRODID:-//hacksw/handcal//NONSGML v1.0//EN
CALSCALE:GREGORIAN
BEGIN:VEVENT
DTSTART:20140427T093000Z
DTEND:20140427T103000Z
UID:e14682
DTSTAMP:20260424T050209Z
LOCATION:Wolfson Building for Biological Research
DESCRIPTION:"Metabolic fueling of HSC and T lymphocyte differentiation"
SUMMARY:"Metabolic fueling of HSC and T lymphocyte differentiation"
END:VEVENT
END:VCALENDAR