BEGIN:VCALENDAR
VERSION:2.0
PRODID:-//hacksw/handcal//NONSGML v1.0//EN
CALSCALE:GREGORIAN
BEGIN:VEVENT
DTSTART:20140410T110000Z
DTEND:20140410T110000Z
UID:e14683
DTSTAMP:20260423T183835Z
LOCATION:Perlman Chemical Sciences Building
DESCRIPTION:How wear leads to tear in osteoarthritis!
SUMMARY:How wear leads to tear in osteoarthritis!
END:VEVENT
END:VCALENDAR