BEGIN:VCALENDAR
VERSION:2.0
PRODID:-//hacksw/handcal//NONSGML v1.0//EN
CALSCALE:GREGORIAN
BEGIN:VEVENT
DTSTART:20140620T070000Z
DTEND:20140620T070000Z
UID:e14684
DTSTAMP:20260425T195812Z
LOCATION:Dolfi and Lola Ebner Auditorium
DESCRIPTION:Geographical Salon:Japan
SUMMARY:Geographical Salon:Japan
END:VEVENT
END:VCALENDAR