BEGIN:VCALENDAR
VERSION:2.0
PRODID:-//hacksw/handcal//NONSGML v1.0//EN
CALSCALE:GREGORIAN
BEGIN:VEVENT
DTSTART:20140602T173000Z
DTEND:20140602T173000Z
UID:e14685
DTSTAMP:20260425T225257Z
LOCATION:Michael Sela Auditorium
DESCRIPTION:They Shoot Horses\, Don't They?
SUMMARY:They Shoot Horses\, Don't They?
END:VEVENT
END:VCALENDAR