BEGIN:VCALENDAR
VERSION:2.0
PRODID:-//hacksw/handcal//NONSGML v1.0//EN
CALSCALE:GREGORIAN
BEGIN:VEVENT
DTSTART:20140521T100000Z
DTEND:20140521T100000Z
UID:e14694
DTSTAMP:20260424T223646Z
LOCATION:Wolfson Building for Biological Research
DESCRIPTION:Non-Canonical Functions of Cyclin D1 and the Non-Coding Genome
SUMMARY:Non-Canonical Functions of Cyclin D1 and the Non-Coding Genome
END:VEVENT
END:VCALENDAR