BEGIN:VCALENDAR
VERSION:2.0
PRODID:-//hacksw/handcal//NONSGML v1.0//EN
CALSCALE:GREGORIAN
BEGIN:VEVENT
DTSTART:20140424T073000Z
DTEND:20140424T073000Z
UID:e14702
DTSTAMP:20260424T014216Z
LOCATION:Jacob Ziskind Building
DESCRIPTION:Existence of Klyachko models for GL(n\,R) 
SUMMARY:Existence of Klyachko models for GL(n\,R) 
END:VEVENT
END:VCALENDAR