BEGIN:VCALENDAR
VERSION:2.0
PRODID:-//hacksw/handcal//NONSGML v1.0//EN
CALSCALE:GREGORIAN
BEGIN:VEVENT
DTSTART:20140501T073000Z
DTEND:20140501T073000Z
UID:e14703
DTSTAMP:20260425T072021Z
LOCATION:Jacob Ziskind Building
DESCRIPTION:Rational points on K3 surfaces 
SUMMARY:Rational points on K3 surfaces 
END:VEVENT
END:VCALENDAR