BEGIN:VCALENDAR
VERSION:2.0
PRODID:-//hacksw/handcal//NONSGML v1.0//EN
CALSCALE:GREGORIAN
BEGIN:VEVENT
DTSTART:20140605T081500Z
DTEND:20140605T093000Z
UID:e14715
DTSTAMP:20260425T195818Z
LOCATION:Camelia Botnar Building
DESCRIPTION:Targeting the Plasmodium falciparum neutral metallo-aminopeptidases as novel anti-malarial drug targets
SUMMARY:Targeting the Plasmodium falciparum neutral metallo-aminopeptidases as novel anti-malarial drug targets
END:VEVENT
END:VCALENDAR