BEGIN:VCALENDAR
VERSION:2.0
PRODID:-//hacksw/handcal//NONSGML v1.0//EN
CALSCALE:GREGORIAN
BEGIN:VEVENT
DTSTART:20140616T170000Z
DTEND:20140616T170000Z
UID:e14716
DTSTAMP:20260425T234720Z
LOCATION:Michael Sela Auditorium
DESCRIPTION:The History of Broadway
SUMMARY:The History of Broadway
END:VEVENT
END:VCALENDAR