BEGIN:VCALENDAR
VERSION:2.0
PRODID:-//hacksw/handcal//NONSGML v1.0//EN
CALSCALE:GREGORIAN
BEGIN:VEVENT
DTSTART:20140501T080000Z
DTEND:20140501T080000Z
UID:e14723
DTSTAMP:20260424T050156Z
LOCATION:Jacob Ziskind Building
DESCRIPTION:Choices and Intervals 
SUMMARY:Choices and Intervals 
END:VEVENT
END:VCALENDAR