BEGIN:VCALENDAR
VERSION:2.0
PRODID:-//hacksw/handcal//NONSGML v1.0//EN
CALSCALE:GREGORIAN
BEGIN:VEVENT
DTSTART:20140508T090000Z
DTEND:20140508T090000Z
UID:e14724
DTSTAMP:20260425T072016Z
LOCATION:Jacob Ziskind Building
DESCRIPTION:Image Dehazing 
SUMMARY:Image Dehazing 
END:VEVENT
END:VCALENDAR