BEGIN:VCALENDAR
VERSION:2.0
PRODID:-//hacksw/handcal//NONSGML v1.0//EN
CALSCALE:GREGORIAN
BEGIN:VEVENT
DTSTART:20140513T103000Z
DTEND:20140513T110000Z
UID:e14725
DTSTAMP:20260425T072019Z
LOCATION:Wolfson Building for Biological Research
DESCRIPTION:"HDAC3 takes thymic epithelium development down a Notch"
SUMMARY:"HDAC3 takes thymic epithelium development down a Notch"
END:VEVENT
END:VCALENDAR