BEGIN:VCALENDAR
VERSION:2.0
PRODID:-//hacksw/handcal//NONSGML v1.0//EN
CALSCALE:GREGORIAN
BEGIN:VEVENT
DTSTART:20140513T110000Z
DTEND:20140513T113000Z
UID:e14726
DTSTAMP:20260424T111013Z
LOCATION:Wolfson Building for Biological Research
DESCRIPTION:"S1P Regulates Stem Cell Migration and Development and the BM Microenvironment via ROS Signaling"
SUMMARY:"S1P Regulates Stem Cell Migration and Development and the BM Microenvironment via ROS Signaling"
END:VEVENT
END:VCALENDAR