BEGIN:VCALENDAR
VERSION:2.0
PRODID:-//hacksw/handcal//NONSGML v1.0//EN
CALSCALE:GREGORIAN
BEGIN:VEVENT
DTSTART:20140623T173000Z
DTEND:20140623T173000Z
UID:e14728
DTSTAMP:20260425T234723Z
LOCATION:Michael Sela Auditorium
DESCRIPTION:Best Friends
SUMMARY:Best Friends
END:VEVENT
END:VCALENDAR