BEGIN:VCALENDAR
VERSION:2.0
PRODID:-//hacksw/handcal//NONSGML v1.0//EN
CALSCALE:GREGORIAN
BEGIN:VEVENT
DTSTART:20140513T110000Z
DTEND:20140513T120000Z
UID:e14733
DTSTAMP:20260424T183143Z
LOCATION:Helen and Milton A. Kimmelman Building
DESCRIPTION:"charge as symmetry in proteins if the outer membrane."  
SUMMARY:"charge as symmetry in proteins if the outer membrane."  
END:VEVENT
END:VCALENDAR