BEGIN:VCALENDAR
VERSION:2.0
PRODID:-//hacksw/handcal//NONSGML v1.0//EN
CALSCALE:GREGORIAN
BEGIN:VEVENT
DTSTART:20140501T113000Z
DTEND:20140501T113000Z
UID:e14734
DTSTAMP:20260424T050210Z
LOCATION:Gerhard M.J. Schmidt Lecture Hall
DESCRIPTION:Bursting reverberation in small and large neuronal networks 
SUMMARY:Bursting reverberation in small and large neuronal networks 
END:VEVENT
END:VCALENDAR