BEGIN:VCALENDAR
VERSION:2.0
PRODID:-//hacksw/handcal//NONSGML v1.0//EN
CALSCALE:GREGORIAN
BEGIN:VEVENT
DTSTART:20140527T090000Z
DTEND:20140527T100000Z
UID:e14740
DTSTAMP:20260425T070929Z
LOCATION:Dolfi and Lola Ebner Auditorium
DESCRIPTION:The Atmosphere of Mars: Four Billion Years of Evolution
SUMMARY:The Atmosphere of Mars: Four Billion Years of Evolution
END:VEVENT
END:VCALENDAR