BEGIN:VCALENDAR
VERSION:2.0
PRODID:-//hacksw/handcal//NONSGML v1.0//EN
CALSCALE:GREGORIAN
BEGIN:VEVENT
DTSTART:20140512T110000Z
DTEND:20140512T110000Z
UID:e14742
DTSTAMP:20260425T070939Z
LOCATION:Edna and K.B. Weissman Building of Physical Sciences
DESCRIPTION:STOCHASTIC MODELS OF GROWTH AND  EVOLUTION
SUMMARY:STOCHASTIC MODELS OF GROWTH AND  EVOLUTION
END:VEVENT
END:VCALENDAR