BEGIN:VCALENDAR
VERSION:2.0
PRODID:-//hacksw/handcal//NONSGML v1.0//EN
CALSCALE:GREGORIAN
BEGIN:VEVENT
DTSTART:20140526T113000Z
DTEND:20140526T113000Z
UID:e14745
DTSTAMP:20260425T070927Z
LOCATION:Jacob Ziskind Building
DESCRIPTION:Large-Scale Secure Computation 
SUMMARY:Large-Scale Secure Computation 
END:VEVENT
END:VCALENDAR