BEGIN:VCALENDAR
VERSION:2.0
PRODID:-//hacksw/handcal//NONSGML v1.0//EN
CALSCALE:GREGORIAN
BEGIN:VEVENT
DTSTART:20140522T093000Z
DTEND:20140522T103000Z
UID:e14746
DTSTAMP:20260425T070931Z
LOCATION:Gerhard M.J. Schmidt Lecture Hall
DESCRIPTION:Spotlight on Science - Dr. Adriana Katz
SUMMARY:Spotlight on Science - Dr. Adriana Katz
END:VEVENT
END:VCALENDAR