BEGIN:VCALENDAR
VERSION:2.0
PRODID:-//hacksw/handcal//NONSGML v1.0//EN
CALSCALE:GREGORIAN
BEGIN:VEVENT
DTSTART:20140504T080000Z
DTEND:20140504T080000Z
UID:e14747
DTSTAMP:20260424T050201Z
LOCATION:Perlman Chemical Sciences Building
DESCRIPTION:Life in a gel or the viscoelastic response of complex fluids
SUMMARY:Life in a gel or the viscoelastic response of complex fluids
END:VEVENT
END:VCALENDAR