BEGIN:VCALENDAR
VERSION:2.0
PRODID:-//hacksw/handcal//NONSGML v1.0//EN
CALSCALE:GREGORIAN
BEGIN:VEVENT
DTSTART:20140430T081500Z
DTEND:20140430T090000Z
UID:e14749
DTSTAMP:20260425T122850Z
LOCATION:Nella and Leon Benoziyo Physics Building
DESCRIPTION:Supernovae: Progenitors and Explosions
SUMMARY:Supernovae: Progenitors and Explosions
END:VEVENT
END:VCALENDAR