BEGIN:VCALENDAR
VERSION:2.0
PRODID:-//hacksw/handcal//NONSGML v1.0//EN
CALSCALE:GREGORIAN
BEGIN:VEVENT
DTSTART:20140511T080000Z
DTEND:20140511T080000Z
UID:e14766
DTSTAMP:20260425T072018Z
LOCATION:Sussman Family Building for Environmental Sciences
DESCRIPTION:Transport properties of fractured 
SUMMARY:Transport properties of fractured 
END:VEVENT
END:VCALENDAR