BEGIN:VCALENDAR
VERSION:2.0
PRODID:-//hacksw/handcal//NONSGML v1.0//EN
CALSCALE:GREGORIAN
BEGIN:VEVENT
DTSTART:20140616T121500Z
DTEND:20140616T130000Z
UID:e14767
DTSTAMP:20260425T234722Z
LOCATION:Nella and Leon Benoziyo Physics Building
DESCRIPTION:Understanding superluminous supernovae through their host galaxies and through polarimetry
SUMMARY:Understanding superluminous supernovae through their host galaxies and through polarimetry
END:VEVENT
END:VCALENDAR