BEGIN:VCALENDAR
VERSION:2.0
PRODID:-//hacksw/handcal//NONSGML v1.0//EN
CALSCALE:GREGORIAN
BEGIN:VEVENT
DTSTART:20140507T130000Z
DTEND:20140507T150000Z
UID:e14771
DTSTAMP:20260425T070949Z
LOCATION:Dolfi and Lola Ebner Auditorium
DESCRIPTION:Popular Debate: Macroeconomics Symposium 
SUMMARY:Popular Debate: Macroeconomics Symposium 
END:VEVENT
END:VCALENDAR