BEGIN:VCALENDAR
VERSION:2.0
PRODID:-//hacksw/handcal//NONSGML v1.0//EN
CALSCALE:GREGORIAN
BEGIN:VEVENT
DTSTART:20140513T080000Z
DTEND:20140513T090000Z
UID:e14787
DTSTAMP:20260424T075630Z
LOCATION:Perlman Chemical Sciences Building
DESCRIPTION:Chemical Physics Special Guest Seminar
SUMMARY:Chemical Physics Special Guest Seminar
END:VEVENT
END:VCALENDAR