BEGIN:VCALENDAR
VERSION:2.0
PRODID:-//hacksw/handcal//NONSGML v1.0//EN
CALSCALE:GREGORIAN
BEGIN:VEVENT
DTSTART:20140522T080500Z
DTEND:20140522T080500Z
UID:e14791
DTSTAMP:20260425T120454Z
LOCATION:Jacob Ziskind Building
DESCRIPTION:A characterization of mixing and cutoff for reversible Markov chains in terms of hitting times via a new ergodic theory approach and applications
SUMMARY:A characterization of mixing and cutoff for reversible Markov chains in terms of hitting times via a new ergodic theory approach and applications
END:VEVENT
END:VCALENDAR