BEGIN:VCALENDAR
VERSION:2.0
PRODID:-//hacksw/handcal//NONSGML v1.0//EN
CALSCALE:GREGORIAN
BEGIN:VEVENT
DTSTART:20140513T081500Z
DTEND:20140513T081500Z
UID:e14794
DTSTAMP:20260425T075223Z
LOCATION:Ullmann Building of Life Sciences
DESCRIPTION:The biosynthesis and evolution of seed peptides
SUMMARY:The biosynthesis and evolution of seed peptides
END:VEVENT
END:VCALENDAR