BEGIN:VCALENDAR
VERSION:2.0
PRODID:-//hacksw/handcal//NONSGML v1.0//EN
CALSCALE:GREGORIAN
BEGIN:VEVENT
DTSTART:20140520T080000Z
DTEND:20140520T090000Z
UID:e14798
DTSTAMP:20260425T120452Z
LOCATION:Helen and Milton A. Kimmelman Building
DESCRIPTION:Reaction Discovery With Pincer Complexes
SUMMARY:Reaction Discovery With Pincer Complexes
END:VEVENT
END:VCALENDAR