BEGIN:VCALENDAR
VERSION:2.0
PRODID:-//hacksw/handcal//NONSGML v1.0//EN
CALSCALE:GREGORIAN
BEGIN:VEVENT
DTSTART:20140520T081500Z
DTEND:20140520T081500Z
UID:e14804
DTSTAMP:20260424T223822Z
LOCATION:Ullmann Building of Life Sciences
DESCRIPTION:Growth and starch accumulation in duckweed
SUMMARY:Growth and starch accumulation in duckweed
END:VEVENT
END:VCALENDAR