BEGIN:VCALENDAR
VERSION:2.0
PRODID:-//hacksw/handcal//NONSGML v1.0//EN
CALSCALE:GREGORIAN
BEGIN:VEVENT
DTSTART:20140529T130000Z
DTEND:20140529T130000Z
UID:e14816
DTSTAMP:20260425T234747Z
LOCATION:Jacob Ziskind Building
DESCRIPTION:A Study of the Saturated Tensor Cone  for Symmetrizable Kac-Moody Algebras
SUMMARY:A Study of the Saturated Tensor Cone  for Symmetrizable Kac-Moody Algebras
END:VEVENT
END:VCALENDAR