BEGIN:VCALENDAR
VERSION:2.0
PRODID:-//hacksw/handcal//NONSGML v1.0//EN
CALSCALE:GREGORIAN
BEGIN:VEVENT
DTSTART:20140520T090000Z
DTEND:20140520T090000Z
UID:e14819
DTSTAMP:20260424T223647Z
LOCATION:Perlman Chemical Sciences Building
DESCRIPTION:Magnetic Resonance Special Seminar
SUMMARY:Magnetic Resonance Special Seminar
END:VEVENT
END:VCALENDAR